BEGIN:VCALENDAR
VERSION:2.0
PRODID:-//ChamberMaster//Event Calendar 2.0//EN
METHOD:PUBLISH
X-PUBLISHED-TTL:P3D
REFRESH-INTERVAL:P3D
CALSCALE:GREGORIAN
BEGIN:VEVENT
DTSTART:20240718T190000Z
DTEND:20240718T210000Z
X-MICROSOFT-CDO-ALLDAYEVENT:FALSE
SUMMARY:Ziggy's Coffee Cheers to One Year
DESCRIPTION:Join Ziggy's Coffee for their one year celebrations! Our Ziggi's location will be donating $1\,300 to Real Okie Superheroes nonprofit and taking donations for the organization all weekend.
X-ALT-DESC;FMTTYPE=text/html:<div class="page" title="Page 1">\n<div class="section" style="background-color: rgb(117\, 213\, 221)\;">\n<div class="layoutArea">\n<div class="column">\n<p><span style="font-size:16px\;"><font color="#ffffff" face="BrandonGrotesque"><span style="caret-color: rgb(0\, 0\, 0)\;">Join Ziggy&#39\;s Coffee for their one year celebrations!&nbsp\;</span><span style="caret-color: rgb(0\, 0\, 0)\;">Our Ziggi&rsquo\;s location will be donating $1\,300 to Real Okie Superheroes nonprofit and taking donations for the organization all weekend.</span></font></span></p>\n</div>\n</div>\n</div>\n</div>\n
LOCATION:9712 E. 92nd ST. S\, TULSA
UID:e.1611.9742
SEQUENCE:3
DTSTAMP:20260419T121924Z
URL:https://portal.bixbychamber.com/events/details/ziggy-s-coffee-cheers-to-one-year-9742
END:VEVENT

END:VCALENDAR
