BEGIN:VCALENDAR
VERSION:2.0
PRODID:-//ChamberMaster//Event Calendar 2.0//EN
METHOD:PUBLISH
X-PUBLISHED-TTL:P3D
REFRESH-INTERVAL:P3D
CALSCALE:GREGORIAN
BEGIN:VEVENT
DTSTART;VALUE=DATE:20210421
DTEND;VALUE=DATE:20210422
TRANSP:TRANSPARENT
X-MICROSOFT-CDO-ALLDAYEVENT:TRUE
SUMMARY:Whataburger’s PivotYou Conference
DESCRIPTION:Whataburger is looking to hire more than 50\,000 Family Members   with an emphasis on finding business leaders to run our multi-million-dollar restaurants across our 14-state footprint. Join us for Pivot-YoWhataburger is looking to hire more than 50\,000 Family Members   with an emphasis on finding business leaders to run our multi-million-dollar restaurants across our 14-state footprint. Join us for Pivot-You\, featuring former military turned NBA all-star David Robinson\; celebrity chef\, restaurateur\, author and TV personality Aar n S nchez\; and pivot expert\, podcast host and author\, Jenny Blake. During the event\, attendees can sign up for a real-time interview with Whataburger or request free career advice via chat.
X-ALT-DESC;FMTTYPE=text/html:Whataburger is looking to hire more than 50\,000 Family Members &ndash\; with an emphasis on finding business leaders to run our multi-million-dollar restaurants across our 14-state footprint. Join us for Pivot-YoWhataburger is looking to hire more than 50\,000 Family Members &ndash\; with an emphasis on finding business leaders to run our multi-million-dollar restaurants across our 14-state footprint. Join us for Pivot-You\, featuring former military turned NBA all-star David Robinson\; celebrity chef\, restaurateur\, author and TV personality Aar&oacute\;n S&aacute\;nchez\; and pivot expert\, podcast host and author\, Jenny Blake. During the event\, attendees can sign up for a real-time interview with Whataburger or request free career advice via chat.
LOCATION:https://pivotyou.brand.live/c/home
UID:e.1611.7574
SEQUENCE:3
DTSTAMP:20260421T230330Z
URL:https://portal.bixbychamber.com/events/details/whataburger-s-pivotyou-conference-7574
END:VEVENT

END:VCALENDAR
