BEGIN:VCALENDAR
VERSION:2.0
PRODID:-//ChamberMaster//Event Calendar 2.0//EN
METHOD:PUBLISH
X-PUBLISHED-TTL:P3D
REFRESH-INTERVAL:P3D
CALSCALE:GREGORIAN
BEGIN:VEVENT
DTSTART:20160214T000000Z
DTEND:20160214T030000Z
X-MICROSOFT-CDO-ALLDAYEVENT:FALSE
SUMMARY:Valentine's Day Father Daughter Dance
DESCRIPTION:A Valentine's Day Dance for Fathers and Daughters of all ages. There will snacks and punch for all with some dance contests and prizes.
X-ALT-DESC;FMTTYPE=text/html:A Valentine&#39\;s Day Dance for Fathers and Daughters of all ages. There will snacks and punch for all with some dance contests and prizes.
LOCATION:Bixby Community Center 211 North Cabaniss Bixby\, OK 74008
UID:e.1611.2785
SEQUENCE:3
DTSTAMP:20260419T171144Z
URL:https://portal.bixbychamber.com/events/details/valentine-s-day-father-daughter-dance-02-13-2016-2785
END:VEVENT

END:VCALENDAR
