BEGIN:VCALENDAR
VERSION:2.0
PRODID:-//ChamberMaster//Event Calendar 2.0//EN
METHOD:PUBLISH
X-PUBLISHED-TTL:P3D
REFRESH-INTERVAL:P3D
CALSCALE:GREGORIAN
BEGIN:VEVENT
DTSTART:20160514T230000Z
DTEND:20160515T060000Z
X-MICROSOFT-CDO-ALLDAYEVENT:FALSE
SUMMARY:UFC 198: Werdum vs Miocic
DESCRIPTION:Fabricio Werdum and Stipe Miocic will meet in the octagon Saturday\, May 14th as they battle it out for the UFC198 #HeavyweightChampionship. Join us at the #BestSportsBarEver on Saturday\, May14th at 6pm for prelims and the main card at approx. 9pm. And join the party on Facebook: https://www.facebook.com/events/235885760105035/
X-ALT-DESC;FMTTYPE=text/html:Fabricio Werdum and Stipe Miocic will meet in the octagon Saturday\, May 14th as they battle it out for the UFC198 #HeavyweightChampionship. Join us at the #BestSportsBarEver on Saturday\, May14th at 6pm for prelims and the main card at approx. 9pm. And join the party on Facebook: https://www.facebook.com/events/235885760105035/
LOCATION:Dave & Buster's (71st St and Highway 169 behind Best Buy) 6812 S. 105th E. Ave. Tulsa\, OK 74133
UID:e.1611.3303
SEQUENCE:3
DTSTAMP:20260419T131104Z
URL:https://portal.bixbychamber.com/events/details/ufc-198-werdum-vs-miocic-05-14-2016-3303
END:VEVENT

END:VCALENDAR
