BEGIN:VCALENDAR
VERSION:2.0
PRODID:-//ChamberMaster//Event Calendar 2.0//EN
METHOD:PUBLISH
X-PUBLISHED-TTL:P3D
REFRESH-INTERVAL:P3D
CALSCALE:GREGORIAN
BEGIN:VEVENT
DTSTART:20160423T223000Z
DTEND:20160424T060000Z
X-MICROSOFT-CDO-ALLDAYEVENT:FALSE
SUMMARY:UFC 197: Jones vs Saint Preux Watch Party
DESCRIPTION:Hey UFC fans! Come & join us on Saturday\, April 23rd for UFC 197 at Dave & Buster?s. Come watch Jon ?Bones? Jones and Ovince Saint Preux get down to business!!! Prelims shown in the bar area at 5:30pm and the main card will be shown throughout the building at approx. 9pm. NO COVER CHARGE!
X-ALT-DESC;FMTTYPE=text/html:Hey UFC fans! Come &amp\; join us on Saturday\, April 23rd for UFC 197 at Dave &amp\; Buster?s. Come watch Jon ?Bones? Jones and Ovince Saint Preux get down to business!!! Prelims shown in the bar area at 5:30pm and the main card will be shown throughout the building at approx. 9pm. NO COVER CHARGE!
LOCATION:Dave & Buster's (71st St and HWY 169 behind Best Buy) 6812 S. 105th E. Ave. Tulsa\, OK 74133
UID:e.1611.3300
SEQUENCE:3
DTSTAMP:20260419T155143Z
URL:https://portal.bixbychamber.com/events/details/ufc-197-jones-vs-saint-preux-watch-party-04-23-2016-3300
END:VEVENT

END:VCALENDAR
