BEGIN:VCALENDAR
VERSION:2.0
PRODID:-//ChamberMaster//Event Calendar 2.0//EN
METHOD:PUBLISH
X-PUBLISHED-TTL:P3D
REFRESH-INTERVAL:P3D
CALSCALE:GREGORIAN
BEGIN:VEVENT
DTSTART:20160420T230000Z
DTEND:20160421T020000Z
X-MICROSOFT-CDO-ALLDAYEVENT:FALSE
SUMMARY:Tulsa Roughnecks Meet and Greet
DESCRIPTION:Join us this Wednesday as we welcome the 2016 Tulsa Roughnecks! From 6pm to 9pm you can meet the team\, take pictures and get autographs -- For FREE!!! 1/2 price games all night\, plus late night Happy Hour from 9pm - close!
X-ALT-DESC;FMTTYPE=text/html:Join us this Wednesday as we welcome the 2016 Tulsa Roughnecks! From 6pm to 9pm you can meet the team\, take pictures and get autographs -- For FREE!!! 1/2 price games all night\, plus late night Happy Hour from 9pm - close!
LOCATION:Dave & Buster's (71st St and HWY 169 behind Best Buy) 6812 S. 105th E. Ave. Tulsa\, OK 74133
UID:e.1611.3301
SEQUENCE:3
DTSTAMP:20260419T142919Z
URL:https://portal.bixbychamber.com/events/details/tulsa-roughnecks-meet-and-greet-04-20-2016-3301
END:VEVENT

END:VCALENDAR
