BEGIN:VCALENDAR
VERSION:2.0
PRODID:-//ChamberMaster//Event Calendar 2.0//EN
METHOD:PUBLISH
X-PUBLISHED-TTL:P3D
REFRESH-INTERVAL:P3D
CALSCALE:GREGORIAN
BEGIN:VEVENT
DTSTART:20160205T010000Z
DTEND:20160205T030000Z
X-MICROSOFT-CDO-ALLDAYEVENT:FALSE
SUMMARY:Tulsa Oilers with Country Financial
DESCRIPTION:Calling all hockey junkies\, friends\, family and the COUNTRY Financial family to join me for the COUNTRY Financial community appreciation night at the Tulsa Oilers hockey game on Thursday\, February 4th at 7:00. Please message/email me for your tickets at Michael.tillman@countryfinancial.com.
X-ALT-DESC;FMTTYPE=text/html:<p style="margin: 0in 0in 4.5pt\; line-height: 14.25pt\; background-image: initial\; background-attachment: initial\; background-size: initial\; background-origin: initial\; background-clip: initial\; background-position: initial\; background-repeat: initial\;"><span style="font-size:10.5pt\;font-family:\n&quot\;Helvetica&quot\;\,&quot\;sans-serif&quot\;\;color:#141823">Calling all hockey junkies\, friends\, family and the COUNTRY Financial family to join me for the COUNTRY Financial community appreciation night at the Tulsa Oilers hockey game on Thursday\, February 4th at 7:00. Please message/email me for your tickets at <a href="mailto:Michael.tillman@countryfinancial.com">Michael.tillman@countryfinancial.com</a>.<o:p></o:p></span></p>\n
LOCATION:
UID:e.1611.2786
SEQUENCE:3
DTSTAMP:20260419T183744Z
URL:https://portal.bixbychamber.com/events/details/tulsa-oilers-with-country-financial-02-04-2016-2786
END:VEVENT

END:VCALENDAR
