BEGIN:VCALENDAR
VERSION:2.0
PRODID:-//ChamberMaster//Event Calendar 2.0//EN
METHOD:PUBLISH
X-PUBLISHED-TTL:P3D
REFRESH-INTERVAL:P3D
CALSCALE:GREGORIAN
BEGIN:VEVENT
DTSTART:20230513T220000Z
DTEND:20230513T233000Z
X-MICROSOFT-CDO-ALLDAYEVENT:FALSE
SUMMARY:Tulsa Oilers Job Fair
DESCRIPTION:Check out the Tulsa Oilers Job Fair this Saturday!
X-ALT-DESC;FMTTYPE=text/html:Check out the Tulsa Oilers Job Fair this Saturday!&nbsp\;<br />\n&nbsp\;
LOCATION:WeStreet Ice Center 6413 S Mingo Rd\, Tulsa\, OK 74133
UID:e.1611.8780
SEQUENCE:3
DTSTAMP:20260422T172458Z
URL:https://portal.bixbychamber.com/events/details/tulsa-oilers-job-fair-8780
END:VEVENT

END:VCALENDAR
