BEGIN:VCALENDAR
VERSION:2.0
PRODID:-//ChamberMaster//Event Calendar 2.0//EN
METHOD:PUBLISH
X-PUBLISHED-TTL:P3D
REFRESH-INTERVAL:P3D
CALSCALE:GREGORIAN
BEGIN:VEVENT
DTSTART:20230615T140000Z
DTEND:20230615T190000Z
X-MICROSOFT-CDO-ALLDAYEVENT:FALSE
SUMMARY:The Y Saves Lives Blood Drive
DESCRIPTION:Each successful donor at The Y Saves Lives blood drives will get a YMCA Lifesaver T-shirt\, a YMCA summer pass\, a vintage Life is Better T-shirt and their choice of one free entry from Science Museum Oklahoma\, Frontier City or Hurricane Harbor.\n\nThis is a Tulsa-area event\, so choose the reservation link for the location closest to you.
X-ALT-DESC;FMTTYPE=text/html:<p style="box-sizing: border-box\; margin: 20px 0px\; color: rgb(50\, 86\, 108)\; font-family: sofia-pro\, sans-serif\; font-size: 16.2px\; background-color: rgb(227\, 234\, 240)\;"><span style="font-size:11px\;"><span style="font-family:arial\;">Each successful donor at The Y Saves Lives blood drives will get a&nbsp\;<span style="box-sizing: border-box\; font-weight: bolder\;">YMCA Lifesaver T-shirt\, a YMCA summer pass</span>\, a vintage Life is Better T-shirt and their choice of one free entry from Science Museum Oklahoma\, Frontier City or Hurricane Harbor.</span></span></p>\n\n<p style="box-sizing: border-box\; margin: 20px 0px\; color: rgb(50\, 86\, 108)\; font-family: sofia-pro\, sans-serif\; font-size: 16.2px\; background-color: rgb(227\, 234\, 240)\;"><span style="font-size:11px\;"><span style="font-family:arial\;">This is a Tulsa-area event\, so choose the reservation link for the location closest to you.</span></span></p>\n
LOCATION:Daily Family YMCA East 134th St. S Bixby\, OK 74008
UID:e.1611.8786
SEQUENCE:3
DTSTAMP:20260422T100220Z
URL:https://portal.bixbychamber.com/events/details/the-y-saves-lives-blood-drive-8786
END:VEVENT

END:VCALENDAR
