BEGIN:VCALENDAR
VERSION:2.0
PRODID:-//ChamberMaster//Event Calendar 2.0//EN
METHOD:PUBLISH
X-PUBLISHED-TTL:P3D
REFRESH-INTERVAL:P3D
CALSCALE:GREGORIAN
BEGIN:VEVENT
DTSTART:20160430T003000Z
DTEND:20160430T030000Z
X-MICROSOFT-CDO-ALLDAYEVENT:FALSE
SUMMARY:The GoBoat Launch Party
DESCRIPTION:YOU AND A GUEST ARE INVITED TO THE GOBOAT LAUNCH PARTY HOSTED BY ICYBREEZE. JOIN DAVE YONCE (AS SEEN ON SHARK TANK) FOR AN EXCLUSIVE EVENT AS HE UNVEILS HIS NEXT NEW PRODUCT. AT THIS EVENT WE ARE GIVING AWAY 50 GOBOATS AND 50 ICYBREEZE COOLERS. RSVP TO INFO@THEGOBOAT.COM.
X-ALT-DESC;FMTTYPE=text/html:YOU AND A GUEST ARE INVITED TO THE GOBOAT LAUNCH PARTY HOSTED BY ICYBREEZE. JOIN DAVE YONCE (AS SEEN ON SHARK TANK) FOR AN EXCLUSIVE EVENT AS HE UNVEILS HIS NEXT NEW PRODUCT. AT THIS EVENT WE ARE GIVING AWAY 50 GOBOATS AND 50 ICYBREEZE COOLERS. RSVP TO INFO@THEGOBOAT.COM.
LOCATION:RENAISSANCE TULSA HOTEL AND CONVENTION CENTER\, 6808 S 107TH E AVE\, TULSA\, OK 74133
UID:e.1611.3302
SEQUENCE:3
DTSTAMP:20260419T154858Z
URL:https://portal.bixbychamber.com/events/details/the-goboat-launch-party-04-29-2016-3302
END:VEVENT

END:VCALENDAR
