BEGIN:VCALENDAR
VERSION:2.0
PRODID:-//ChamberMaster//Event Calendar 2.0//EN
METHOD:PUBLISH
X-PUBLISHED-TTL:P3D
REFRESH-INTERVAL:P3D
CALSCALE:GREGORIAN
BEGIN:VEVENT
DTSTART;VALUE=DATE:20210615
DTEND;VALUE=DATE:20210616
TRANSP:TRANSPARENT
X-MICROSOFT-CDO-ALLDAYEVENT:TRUE
SUMMARY:Supreme Lending Happy Hands Golf Classic
DESCRIPTION:Supreme Lending presents the Happy Hands Golf Classic\, an All Pro Tour golf event bringing hundreds of golf pros to Indian Springs Golf Club with a charity ProAm tournament benefitting the children at Happy Hands Education Center\, a school for deaf children\, on June 15th\, 2021. Hole Sponsorships available to promote your business and get a team. Teams are being formed now. Pairing Party and a Pro Longest Drive contest on Monday evening\, June 14th sponsored by Mark Allen Chevrolet.
X-ALT-DESC;FMTTYPE=text/html:Supreme Lending presents the Happy Hands Golf Classic\, an All Pro Tour golf event bringing hundreds of golf pros to Indian Springs Golf Club with a charity ProAm tournament benefitting the children at Happy Hands Education Center\, a school for deaf children\, on June 15th\, 2021. Hole Sponsorships available to promote your business and get a team. Teams are being formed now. Pairing Party and a Pro Longest Drive contest on Monday evening\, June 14th sponsored by Mark Allen Chevrolet.&nbsp\;
LOCATION:Indian Springs Golf Club\, Broken Arrow
UID:e.1611.7577
SEQUENCE:3
DTSTAMP:20260421T202629Z
URL:https://portal.bixbychamber.com/events/details/supreme-lending-happy-hands-golf-classic-7577
END:VEVENT

END:VCALENDAR
