BEGIN:VCALENDAR
VERSION:2.0
PRODID:-//ChamberMaster//Event Calendar 2.0//EN
METHOD:PUBLISH
X-PUBLISHED-TTL:P3D
REFRESH-INTERVAL:P3D
CALSCALE:GREGORIAN
BEGIN:VEVENT
DTSTART;VALUE=DATE:20230624
DTEND;VALUE=DATE:20230626
TRANSP:TRANSPARENT
X-MICROSOFT-CDO-ALLDAYEVENT:TRUE
SUMMARY:Summer Slugfest Softball Tournament
DESCRIPTION:$150-$250 6U-16U
X-ALT-DESC;FMTTYPE=text/html:$150-$250 6U-16U
LOCATION:Bentley Sports Complex 8505 E 148th St. S\, Bixby\, OK 74008
UID:e.1611.8747
SEQUENCE:3
DTSTAMP:20260422T100019Z
URL:https://portal.bixbychamber.com/events/details/summer-slugfest-softball-tournament-8747
END:VEVENT

END:VCALENDAR
