BEGIN:VCALENDAR
VERSION:2.0
PRODID:-//ChamberMaster//Event Calendar 2.0//EN
METHOD:PUBLISH
X-PUBLISHED-TTL:P3D
REFRESH-INTERVAL:P3D
CALSCALE:GREGORIAN
BEGIN:VEVENT
DTSTART:20160310T160000Z
DTEND:20160311T053000Z
X-MICROSOFT-CDO-ALLDAYEVENT:FALSE
SUMMARY:Starting a Small Business Workshop - Oklahoma City
DESCRIPTION:Join the SBA\, OKC Black Chamber\, SCORE\, State of Oklahoma\, and City of Oklahoma City at the Langston OKC Campus for a brief overview of tips for starting a small business and to hear about the many resources available to assist entrepreneurs.\n\nThe goal of this workshop is to provide an overview of the business start-up process for entrepreneurs.  Additionally there will be multiple resource partners present to share what types of assistance and training is available.
X-ALT-DESC;FMTTYPE=text/html:<p class="gdp" style="margin-top:9.75pt\;margin-right:0in\;margin-bottom:9.75pt\;\nmargin-left:0in\;line-height:13.5pt"><b><span style="font-size:10.5pt\;\nfont-family:&quot\;Arial&quot\;\,&quot\;sans-serif&quot\;\;color:#0A1A1F">Join the SBA\, OKC Black Chamber\, SCORE\, State of Oklahoma\, and City of Oklahoma City at the Langston OKC Campus for a brief overview of tips for starting a small business and to hear about the many resources available to assist entrepreneurs.</span></b><span style="font-size:10.5pt\;font-family:&quot\;Arial&quot\;\,&quot\;sans-serif&quot\;\;color:#0A1A1F"><o:p></o:p></span></p>\n\n<p class="gdp" style="margin-top:9.75pt\;margin-right:0in\;margin-bottom:9.75pt\;\nmargin-left:0in\;line-height:13.5pt"><span style="font-size:10.5pt\;font-family:\n&quot\;Arial&quot\;\,&quot\;sans-serif&quot\;\;color:#0A1A1F">The goal of this workshop is to provide an overview of the business start-up process for entrepreneurs. &nbsp\;Additionally there will be multiple resource partners present to share what types of assistance and training is available.<o:p></o:p></span></p>\n
LOCATION:Langston University (OKC) 4205 N Lincoln Blvd\, Oklahoma City\, OK 73105
UID:e.1611.3269
SEQUENCE:3
DTSTAMP:20260419T155229Z
URL:https://portal.bixbychamber.com/events/details/starting-a-small-business-workshop-oklahoma-city-03-10-2016-3269
END:VEVENT

END:VCALENDAR
