BEGIN:VCALENDAR
VERSION:2.0
PRODID:-//ChamberMaster//Event Calendar 2.0//EN
METHOD:PUBLISH
X-PUBLISHED-TTL:P3D
REFRESH-INTERVAL:P3D
CALSCALE:GREGORIAN
BEGIN:VEVENT
DTSTART;VALUE=DATE:20230609
DTEND;VALUE=DATE:20230612
TRANSP:TRANSPARENT
X-MICROSOFT-CDO-ALLDAYEVENT:TRUE
SUMMARY:Stairway to #1 Baseball Tournament
DESCRIPTION:6U-14U All Divisions
X-ALT-DESC;FMTTYPE=text/html:6U-14U All Divisions
LOCATION:Bentley Sports Complex 8505 E 148th St. S\, Bixby\, OK 74008
UID:e.1611.8755
SEQUENCE:3
DTSTAMP:20260422T100120Z
URL:https://portal.bixbychamber.com/events/details/stairway-to-1-baseball-tournament-8755
END:VEVENT

END:VCALENDAR
