BEGIN:VCALENDAR
VERSION:2.0
PRODID:-//ChamberMaster//Event Calendar 2.0//EN
METHOD:PUBLISH
X-PUBLISHED-TTL:P3D
REFRESH-INTERVAL:P3D
CALSCALE:GREGORIAN
BEGIN:VEVENT
DTSTART:20160512T230000Z
DTEND:20160513T000000Z
X-MICROSOFT-CDO-ALLDAYEVENT:FALSE
SUMMARY:Social Security: Your Questions Answered
DESCRIPTION:Social Security will likely be the foundation of your retirement income. That's why it's so important to understand your options and the effect your decisions have on your retirement before you retire. Please join us for our presentation of Social Security: Your Questions Answered.
X-ALT-DESC;FMTTYPE=text/html:Social Security will likely be the foundation of your retirement income. That&#39\;s why it&#39\;s so important to understand your options and the effect your decisions have on your retirement before you retire. Please join us for our presentation of Social Security: Your Questions Answered.
LOCATION:Tapestry At Woodland Hills\, 7345 S 99th East Ave\, Tulsa\, OK
UID:e.1611.3306
SEQUENCE:3
DTSTAMP:20260419T142920Z
URL:https://portal.bixbychamber.com/events/details/social-security-your-questions-answered-05-12-2016-3306
END:VEVENT

END:VCALENDAR
