BEGIN:VCALENDAR
VERSION:2.0
PRODID:-//ChamberMaster//Event Calendar 2.0//EN
METHOD:PUBLISH
X-PUBLISHED-TTL:P3D
REFRESH-INTERVAL:P3D
CALSCALE:GREGORIAN
BEGIN:VEVENT
DTSTART:20160428T163000Z
DTEND:20160428T180000Z
X-MICROSOFT-CDO-ALLDAYEVENT:FALSE
SUMMARY:SNU- Tulsa Continuing Education: Enhancing Employee Engagement & Beating Burnout
DESCRIPTION:Join Southern Nazarene University for their continuing education series on "Enhancing Employee Engagement & Beating Burnout"
X-ALT-DESC;FMTTYPE=text/html:Join Southern Nazarene University for their continuing education series on &quot\;Enhancing Employee Engagement &amp\; Beating Burnout&quot\;
LOCATION:Southern Nazarene University 8210 East Regal Court Tulsa\, OK 74133
UID:e.1611.3284
SEQUENCE:3
DTSTAMP:20260419T143205Z
URL:https://portal.bixbychamber.com/events/details/snu-tulsa-continuing-education-enhancing-employee-engagement-beating-burnout-04-28-2016-3284
END:VEVENT

END:VCALENDAR
