BEGIN:VCALENDAR
VERSION:2.0
PRODID:-//ChamberMaster//Event Calendar 2.0//EN
METHOD:PUBLISH
X-PUBLISHED-TTL:P3D
REFRESH-INTERVAL:P3D
CALSCALE:GREGORIAN
BEGIN:VEVENT
DTSTART:20160304T160000Z
DTEND:20160304T180000Z
X-MICROSOFT-CDO-ALLDAYEVENT:FALSE
SUMMARY:Small Business Roundtable presented by C.G. Olsen PC
DESCRIPTION:An informational discussion on a topic presented by a profession in that specified field followed by an open question/discussion session involving the small business owners in attendance. \n\n\n\nMarch 4th\, 2016\n\nQuickBooks Online\n\nPresenters: Christopher G. Olsen\n\nand QuickBooks Online Pro Advisors\n\n\n\nWe will present a roundtable on a different specified topic every Friday from 10:00 AM - 12:00 PM
X-ALT-DESC;FMTTYPE=text/html:An informational discussion on a topic presented by a profession in that specified field followed by an open question/discussion session involving the small business owners in attendance.&nbsp\;<br />\n<br />\n<span style="font-size:18px\;"><strong>March 4th\, 2016</strong></span><br />\n<strong><span style="font-size:24px\;">QuickBooks Online</span></strong><br />\nPresenters: Christopher G. Olsen<br />\nand QuickBooks Online Pro Advisors<br />\n<br />\nWe will present a roundtable on a different specified topic every Friday from 10:00 AM - 12:00 PM<br />\n&nbsp\;
LOCATION:6705 East 81 Street Suite 195 Tulsa\, OK 74133 Ph: (918) 398-8483
UID:e.1611.3063
SEQUENCE:3
DTSTAMP:20260419T155057Z
URL:https://portal.bixbychamber.com/events/details/small-business-roundtable-presented-by-c-g-olsen-pc-03-04-2016-3063
END:VEVENT

END:VCALENDAR
