BEGIN:VCALENDAR
VERSION:2.0
PRODID:-//ChamberMaster//Event Calendar 2.0//EN
METHOD:PUBLISH
X-PUBLISHED-TTL:P3D
REFRESH-INTERVAL:P3D
CALSCALE:GREGORIAN
BEGIN:VEVENT
DTSTART:20160401T150000Z
DTEND:20160401T170000Z
X-MICROSOFT-CDO-ALLDAYEVENT:FALSE
SUMMARY:SMALL BUSINESS ROUNDTABLE hosted by C G Olsen PC
DESCRIPTION:FAVORITE IRS TRAPS! Auto and Meals/Entertainment Deductions
X-ALT-DESC;FMTTYPE=text/html:FAVORITE IRS TRAPS! Auto and Meals/Entertainment Deductions
LOCATION:C G Olsen Office 6705 E 80 St. Ste 195 Tulsa\, OK. 74133
UID:e.1611.3286
SEQUENCE:3
DTSTAMP:20260419T143007Z
URL:https://portal.bixbychamber.com/events/details/small-business-roundtable-hosted-by-c-g-olsen-pc-04-01-2016-3286
END:VEVENT

END:VCALENDAR
