BEGIN:VCALENDAR
VERSION:2.0
PRODID:-//ChamberMaster//Event Calendar 2.0//EN
METHOD:PUBLISH
X-PUBLISHED-TTL:P3D
REFRESH-INTERVAL:P3D
CALSCALE:GREGORIAN
BEGIN:VEVENT
DTSTART:20160325T150000Z
DTEND:20160325T170000Z
X-MICROSOFT-CDO-ALLDAYEVENT:FALSE
SUMMARY:Small Business Roundtable hosted by C G Olsen PC
DESCRIPTION:INDEPENDENT CONTRACTOR OR EMPLOYEE?\n\nAvoid the pitfalls!!\n\nPresenter:  Christopher G Olsen CPA\n\n\n\n(We will present a Roundtable on a different topic every Friday 10:00-12:00)
X-ALT-DESC;FMTTYPE=text/html:<div style="text-align: center\;"><span style="font-size:24px"><strong><font face="comic sans ms">INDEPENDENT CONTRACTOR OR EMPLOYEE?</font><br />\n<span style="font-size:20px"><em><span style="font-family:verdana">Avoid the pitfalls!!</span></em><br />\n<span style="font-family:verdana"><span style="font-family:arial\,helvetica\,sans-serif">Presenter: &nbsp\;Christopher G Olsen CPA<br />\n<br />\n(<span style="font-family:comic sans ms"><span style="font-size:14px">We will present a Roundtable on a different topic every Friday 10:00-12:00)</span></span></span></span></span></strong></span></div>\n
LOCATION:C G Olsen PC Offices 6705 East 81st Street Tulsa\, OK 74133
UID:e.1611.3280
SEQUENCE:3
DTSTAMP:20260419T155042Z
URL:https://portal.bixbychamber.com/events/details/small-business-roundtable-hosted-by-c-g-olsen-pc-03-25-2016-3280
END:VEVENT

END:VCALENDAR
