BEGIN:VCALENDAR
VERSION:2.0
PRODID:-//ChamberMaster//Event Calendar 2.0//EN
METHOD:PUBLISH
X-PUBLISHED-TTL:P3D
REFRESH-INTERVAL:P3D
CALSCALE:GREGORIAN
BEGIN:VEVENT
DTSTART:20230626T110000Z
DTEND:20230627T000000Z
X-MICROSOFT-CDO-ALLDAYEVENT:FALSE
SUMMARY:Scooter's-Bixby Opening Day!
DESCRIPTION:Hello Bixby! It's official\, Scooter's Coffee opening day is Monday\, June 26th!\n\nWe are excited for the opportunity to bring Scooter's Coffee to Bixby\, and especially have it south of the river where we are growing so fast. Bixby Scooter's is locally owned by Jimmy Cheek\, and are so proud to build in our hometown and help provide new job opportunities within the community. You'll even see him inside serving up coffee\, treats\, and providing amazing service to you!\n\nWe are hoping to make Scooter's Coffee opening day in Bixby the biggest first day ever in Scooter's history! We truly want to make this opening special\; we will be donating $1\,000 to Bixby Public Schools Foundation (BEEF) from opening day and hope the Bixby community feels the love and the support we plan to bring to the community.\n\nDon't forget to set your alarms a bit earlier Monday and grab a coffee\, refresher\, or a NEW SCOOTenergy drink and some yummy morning goodies on your way to work. Download the app for $2 off your first drink and order ahead too.\n\nWe hope you will come see us on Monday\, June 26th!
X-ALT-DESC;FMTTYPE=text/html:<div dir="auto" style="font-family: &quot\;Segoe UI Historic&quot\;\, &quot\;Segoe UI&quot\;\, Helvetica\, Arial\, sans-serif\; color: rgb(228\, 230\, 235)\; font-size: 15px\; white-space-collapse: preserve\; background-color: rgb(36\, 37\, 38)\;">Hello Bixby! It&rsquo\;s official\, Scooter&rsquo\;s Coffee opening day is Monday\, June 26th!</div>\n\n<div dir="auto" style="font-family: &quot\;Segoe UI Historic&quot\;\, &quot\;Segoe UI&quot\;\, Helvetica\, Arial\, sans-serif\; color: rgb(228\, 230\, 235)\; font-size: 15px\; white-space-collapse: preserve\; background-color: rgb(36\, 37\, 38)\;">We are excited for the opportunity to bring Scooter&rsquo\;s Coffee to Bixby\, and especially have it south of the river where we are growing so fast. Bixby Scooter&rsquo\;s is locally owned by Jimmy Cheek\, and are so proud to build in our hometown and help provide new job opportunities within the community. You&rsquo\;ll even see him inside serving up coffee\, treats\, and providing amazing service to you!</div>\n\n<div dir="auto" style="font-family: &quot\;Segoe UI Historic&quot\;\, &quot\;Segoe UI&quot\;\, Helvetica\, Arial\, sans-serif\; color: rgb(228\, 230\, 235)\; font-size: 15px\; white-space-collapse: preserve\; background-color: rgb(36\, 37\, 38)\;">We are hoping to make Scooter&rsquo\;s Coffee opening day in Bixby the biggest first day ever in Scooter&rsquo\;s history! We truly want to make this opening special\; we will be donating $1\,000 to Bixby Public Schools Foundation (BEEF) from opening day and hope the Bixby community feels the love and the support we plan to bring to the community.</div>\n\n<div dir="auto" style="font-family: &quot\;Segoe UI Historic&quot\;\, &quot\;Segoe UI&quot\;\, Helvetica\, Arial\, sans-serif\; color: rgb(228\, 230\, 235)\; font-size: 15px\; white-space-collapse: preserve\; background-color: rgb(36\, 37\, 38)\;">Don&rsquo\;t forget to set your alarms a bit earlier Monday and grab a coffee\, refresher\, or a NEW SCOOTenergy drink and some yummy morning goodies on your way to work. Download the app for $2 off your first drink and order ahead too.</div>\n\n<div dir="auto" style="font-family: &quot\;Segoe UI Historic&quot\;\, &quot\;Segoe UI&quot\;\, Helvetica\, Arial\, sans-serif\; color: rgb(228\, 230\, 235)\; font-size: 15px\; white-space-collapse: preserve\; background-color: rgb(36\, 37\, 38)\;">We hope you will come see us on Monday\, June 26th!</div>\n
LOCATION:14801 South Memorial Drive Bixby\, OK 74008
UID:e.1611.8791
SEQUENCE:3
DTSTAMP:20260422T094907Z
URL:https://portal.bixbychamber.com/events/details/scooter-s-bixby-opening-day-8791
END:VEVENT

END:VCALENDAR
