BEGIN:VCALENDAR
VERSION:2.0
PRODID:-//ChamberMaster//Event Calendar 2.0//EN
METHOD:PUBLISH
X-PUBLISHED-TTL:P3D
REFRESH-INTERVAL:P3D
CALSCALE:GREGORIAN
BEGIN:VEVENT
DTSTART:20141008T120000Z
DTEND:20141008T140000Z
X-MICROSOFT-CDO-ALLDAYEVENT:FALSE
SUMMARY:?Rise & Shine? Job Fair
DESCRIPTION:Now Hiring & Training with Oklahoma Blood Institute as a donor care phlebotomist.\n\nCoffee & light refreshments will be provided.
X-ALT-DESC;FMTTYPE=text/html:Now Hiring &amp\; Training with Oklahoma Blood Institute as a&nbsp\;donor care phlebotomist.<br />\nCoffee &amp\; light refreshments will be provided.
LOCATION:Tulsa Donor Center 4601 East 81st Street
UID:e.1611.1441
SEQUENCE:3
DTSTAMP:20260420T144602Z
URL:https://portal.bixbychamber.com/events/details/rise-shine-job-fair-10-08-2014-1441
END:VEVENT

END:VCALENDAR
