BEGIN:VCALENDAR
VERSION:2.0
PRODID:-//ChamberMaster//Event Calendar 2.0//EN
METHOD:PUBLISH
X-PUBLISHED-TTL:P3D
REFRESH-INTERVAL:P3D
CALSCALE:GREGORIAN
BEGIN:VEVENT
DTSTART:20130404T213000Z
DTEND:20130404T220000Z
X-MICROSOFT-CDO-ALLDAYEVENT:FALSE
SUMMARY:Ribbon Cutting- World Pay and Jiles Cleaning/Maintenance Service
DESCRIPTION:
X-ALT-DESC;FMTTYPE=text/html:
LOCATION:Bixby Metro Chamber Office 10441 South Regal Boulevard\, Suite 104
UID:e.1611.612
SEQUENCE:3
DTSTAMP:20260421T142826Z
URL:https://portal.bixbychamber.com/events/details/ribbon-cutting-world-pay-and-jiles-cleaning-maintenance-service-04-04-2013-612
END:VEVENT

END:VCALENDAR
