BEGIN:VCALENDAR
VERSION:2.0
PRODID:-//ChamberMaster//Event Calendar 2.0//EN
METHOD:PUBLISH
X-PUBLISHED-TTL:P3D
REFRESH-INTERVAL:P3D
CALSCALE:GREGORIAN
BEGIN:VEVENT
DTSTART:20140109T223000Z
DTEND:20140109T230000Z
X-MICROSOFT-CDO-ALLDAYEVENT:FALSE
SUMMARY:Ribbon Cutting- Workforce Tulsa
DESCRIPTION:There will some light snacks and drinks.\n\n\n\nParking -  is free in several lots around their building. You can park in the lots to the south\, west or east of our building that are marked "sun building permit required"\n\n(they don't actually need permits\, though).
X-ALT-DESC;FMTTYPE=text/html:<span style="font-family:arial\,sans-serif\;">There will some light snacks and drinks.</span><br />\n<br />\nParking - &nbsp\;is free in several lots around their building. You can park in the lots to the south\, west or east of our building that are marked &ldquo\;sun building permit required&rdquo\;<br />\n(they don&rsquo\;t actually need permits\, though).&nbsp\;<br />\n
LOCATION:907 South Detroit Avenue Tulsa Ok 74120
UID:e.1611.1301
SEQUENCE:3
DTSTAMP:20260421T023419Z
URL:https://portal.bixbychamber.com/events/details/ribbon-cutting-workforce-tulsa-01-09-2014-1301
END:VEVENT

END:VCALENDAR
