BEGIN:VCALENDAR
VERSION:2.0
PRODID:-//ChamberMaster//Event Calendar 2.0//EN
METHOD:PUBLISH
X-PUBLISHED-TTL:P3D
REFRESH-INTERVAL:P3D
CALSCALE:GREGORIAN
BEGIN:VEVENT
DTSTART:20141120T223000Z
DTEND:20141120T230000Z
X-MICROSOFT-CDO-ALLDAYEVENT:FALSE
SUMMARY:Ribbon Cutting- Wilbanks Chiropractic
DESCRIPTION:Please join us for a Ribbon Cutting as we welcome Wilbanks Chiropractic
X-ALT-DESC;FMTTYPE=text/html:Please join us for a Ribbon Cutting as we welcome Wilbanks&nbsp\;Chiropractic
LOCATION:Wilbanks Chiropractic 8205 East Regal Court Suite #106 Tulsa\, OK 74133
UID:e.1611.1452
SEQUENCE:3
DTSTAMP:20260420T150731Z
URL:https://portal.bixbychamber.com/events/details/ribbon-cutting-wilbanks-chiropractic-11-20-2014-1452
END:VEVENT

END:VCALENDAR
