BEGIN:VCALENDAR
VERSION:2.0
PRODID:-//ChamberMaster//Event Calendar 2.0//EN
METHOD:PUBLISH
X-PUBLISHED-TTL:P3D
REFRESH-INTERVAL:P3D
CALSCALE:GREGORIAN
BEGIN:VEVENT
DTSTART:20150716T220000Z
DTEND:20150716T223000Z
X-MICROSOFT-CDO-ALLDAYEVENT:FALSE
SUMMARY:Ribbon Cutting- Urban Couture
DESCRIPTION:Please join us for a Ribbon Cutting as we welcome Urban Couture to the Bixby Metro Chamber of Commerce.
X-ALT-DESC;FMTTYPE=text/html:Please join us for a Ribbon Cutting as we welcome Urban Couture to the Bixby Metro Chamber of Commerce.
LOCATION:Urban Couture 7890 East 106th Place South Suite U12 Tulsa\, OK 74133
UID:e.1611.1607
SEQUENCE:3
DTSTAMP:20260420T034734Z
URL:https://portal.bixbychamber.com/events/details/ribbon-cutting-urban-couture-07-16-2015-1607
END:VEVENT

END:VCALENDAR
