BEGIN:VCALENDAR
VERSION:2.0
PRODID:-//ChamberMaster//Event Calendar 2.0//EN
METHOD:PUBLISH
X-PUBLISHED-TTL:P3D
REFRESH-INTERVAL:P3D
CALSCALE:GREGORIAN
BEGIN:VEVENT
DTSTART:20150827T213000Z
DTEND:20150827T220000Z
X-MICROSOFT-CDO-ALLDAYEVENT:FALSE
SUMMARY:Ribbon Cutting- Tulsa Toy Depot
DESCRIPTION:Please join us for a Ribbon Cutting welcoming Tulsa Toy Depot to the Bixby Metro Chamber of Commerce.
X-ALT-DESC;FMTTYPE=text/html:Please join us for a Ribbon Cutting welcoming Tulsa Toy Depot to the Bixby Metro Chamber of Commerce.
LOCATION:Tulsa Toy Depot Ryan McAdams - Owner 10114 South Sheridan Road Tulsa\, OK 74133
UID:e.1611.1593
SEQUENCE:3
DTSTAMP:20260420T010625Z
URL:https://portal.bixbychamber.com/events/details/ribbon-cutting-tulsa-toy-depot-08-27-2015-1593
END:VEVENT

END:VCALENDAR
