BEGIN:VCALENDAR
VERSION:2.0
PRODID:-//ChamberMaster//Event Calendar 2.0//EN
METHOD:PUBLISH
X-PUBLISHED-TTL:P3D
REFRESH-INTERVAL:P3D
CALSCALE:GREGORIAN
BEGIN:VEVENT
DTSTART:20150604T213000Z
DTEND:20150604T220000Z
X-MICROSOFT-CDO-ALLDAYEVENT:FALSE
SUMMARY:Ribbon Cutting- Trost Marketing and Consulting Group
DESCRIPTION:Please join us for a Ribbon Cutting as we welcome Trost Marketing and Consulting Group to the chamber family.
X-ALT-DESC;FMTTYPE=text/html:Please join us for a Ribbon Cutting as we welcome Trost Marketing and Consulting&nbsp\;Group to the chamber family.
LOCATION:Trost Marketing and Consulting Group\, LLC 2900 East Apache Tulsa\, OK 74110
UID:e.1611.1583
SEQUENCE:3
DTSTAMP:20260420T034952Z
URL:https://portal.bixbychamber.com/events/details/ribbon-cutting-trost-marketing-and-consulting-group-06-04-2015-1583
END:VEVENT

END:VCALENDAR
