BEGIN:VCALENDAR
VERSION:2.0
PRODID:-//ChamberMaster//Event Calendar 2.0//EN
METHOD:PUBLISH
X-PUBLISHED-TTL:P3D
REFRESH-INTERVAL:P3D
CALSCALE:GREGORIAN
BEGIN:VEVENT
DTSTART:20150528T213000Z
DTEND:20150528T220000Z
X-MICROSOFT-CDO-ALLDAYEVENT:FALSE
SUMMARY:Ribbon Cutting- Trey's Bar and Grill
DESCRIPTION:Please join us for a Ribbon Cutting welcoming Trey's Bar and Grill to the Bixby Metro Chamber of Commerce.
X-ALT-DESC;FMTTYPE=text/html:Please join us for a Ribbon Cutting welcoming Trey&#39\;s Bar and Grill to the Bixby Metro Chamber of Commerce.
LOCATION:Trey's Bar and Grill 7891 East 108th Street Suite X-22 Tulsa\, OK 74133 (918) 970-4950
UID:e.1611.1604
SEQUENCE:3
DTSTAMP:20260420T053231Z
URL:https://portal.bixbychamber.com/events/details/ribbon-cutting-trey-s-bar-and-grill-05-28-2015-1604
END:VEVENT

END:VCALENDAR
