BEGIN:VCALENDAR
VERSION:2.0
PRODID:-//ChamberMaster//Event Calendar 2.0//EN
METHOD:PUBLISH
X-PUBLISHED-TTL:P3D
REFRESH-INTERVAL:P3D
CALSCALE:GREGORIAN
BEGIN:VEVENT
DTSTART:20140417T213000Z
DTEND:20140417T220000Z
X-MICROSOFT-CDO-ALLDAYEVENT:FALSE
SUMMARY:Ribbon Cutting- Titan Quality Roofing and Construction
DESCRIPTION:Please join us for a Ribbon Cutting at Titan Quality Roofing and Construction.
X-ALT-DESC;FMTTYPE=text/html:Please join us for a Ribbon Cutting at Titan Quality Roofing and Construction.
LOCATION:10827 South Memorial Drive Suite C Tulsa\, OK 74133
UID:e.1611.1340
SEQUENCE:3
DTSTAMP:20260420T225328Z
URL:https://portal.bixbychamber.com/events/details/ribbon-cutting-titan-quality-roofing-and-construction-04-17-2014-1340
END:VEVENT

END:VCALENDAR
