BEGIN:VCALENDAR
VERSION:2.0
PRODID:-//ChamberMaster//Event Calendar 2.0//EN
METHOD:PUBLISH
X-PUBLISHED-TTL:P3D
REFRESH-INTERVAL:P3D
CALSCALE:GREGORIAN
BEGIN:VEVENT
DTSTART:20140828T213000Z
DTEND:20140828T220000Z
X-MICROSOFT-CDO-ALLDAYEVENT:FALSE
SUMMARY:Ribbon Cutting- The Wine Loft
DESCRIPTION:Please join us as we host a Ribbon Cutting welcoming The Wine Loft.
X-ALT-DESC;FMTTYPE=text/html:Please join us as we host a Ribbon Cutting welcoming The Wine Loft.
LOCATION:The Wine Loft 7890 East 106th Place Building V\, Suite 14 Tulsa\, OK 74133
UID:e.1611.1406
SEQUENCE:3
DTSTAMP:20260420T172405Z
URL:https://portal.bixbychamber.com/events/details/ribbon-cutting-the-wine-loft-08-28-2014-1406
END:VEVENT

END:VCALENDAR
