BEGIN:VCALENDAR
VERSION:2.0
PRODID:-//ChamberMaster//Event Calendar 2.0//EN
METHOD:PUBLISH
X-PUBLISHED-TTL:P3D
REFRESH-INTERVAL:P3D
CALSCALE:GREGORIAN
BEGIN:VEVENT
DTSTART:20150122T220000Z
DTEND:20150122T223000Z
X-MICROSOFT-CDO-ALLDAYEVENT:FALSE
SUMMARY:Ribbon Cutting- The Kat Shack
DESCRIPTION:Please join us for a Ribbon Cutting as we welcome The Kat Shack to the Chamber family.
X-ALT-DESC;FMTTYPE=text/html:Please join us for a Ribbon Cutting as we welcome The Kat Shack to the Chamber family.
LOCATION:The Kat Shack 12 North Armstrong Street Bixby \, OK 74008
UID:e.1611.1553
SEQUENCE:3
DTSTAMP:20260420T121457Z
URL:https://portal.bixbychamber.com/events/details/ribbon-cutting-the-kat-shack-01-22-2015-1553
END:VEVENT

END:VCALENDAR
