BEGIN:VCALENDAR
VERSION:2.0
PRODID:-//ChamberMaster//Event Calendar 2.0//EN
METHOD:PUBLISH
X-PUBLISHED-TTL:P3D
REFRESH-INTERVAL:P3D
CALSCALE:GREGORIAN
BEGIN:VEVENT
DTSTART:20151112T223000Z
DTEND:20151112T230000Z
X-MICROSOFT-CDO-ALLDAYEVENT:FALSE
SUMMARY:Ribbon Cutting- T-Town South Fitness
DESCRIPTION:Please join us for a Ribbon Cutting as we welcome T-Town South Fitness to the Bixby Metro Chamber of Commerce family.
X-ALT-DESC;FMTTYPE=text/html:Please join&nbsp\;us for a Ribbon Cutting as we welcome T-Town South Fitness to the Bixby Metro Chamber of Commerce family.
LOCATION:T-Town South Fitness 12804 South Memorial Drive Suite 122 Bixby\, OK 74008
UID:e.1611.1616
SEQUENCE:3
DTSTAMP:20260419T211027Z
URL:https://portal.bixbychamber.com/events/details/ribbon-cutting-t-town-south-fitness-11-12-2015-1616
END:VEVENT

END:VCALENDAR
