BEGIN:VCALENDAR
VERSION:2.0
PRODID:-//ChamberMaster//Event Calendar 2.0//EN
METHOD:PUBLISH
X-PUBLISHED-TTL:P3D
REFRESH-INTERVAL:P3D
CALSCALE:GREGORIAN
BEGIN:VEVENT
DTSTART:20141009T213000Z
DTEND:20141009T220000Z
X-MICROSOFT-CDO-ALLDAYEVENT:FALSE
SUMMARY:Ribbon Cutting- Spring Hill Suites
DESCRIPTION:Please join us for a ribbon cutting as we welcome Spring Hill Suites.\n\n\n\nCome check out their location.\n\n\n\nRefreshments will be provided.
X-ALT-DESC;FMTTYPE=text/html:Please join us for a ribbon cutting as we welcome Spring Hill Suites.<br />\n<br />\nCome check out their location.<br />\n<br />\nRefreshments will be provided.
LOCATION:Spring Hill Suites 11015 East 73rd Street Tulsa\, OK 74133
UID:e.1611.1394
SEQUENCE:3
DTSTAMP:20260420T144531Z
URL:https://portal.bixbychamber.com/events/details/ribbon-cutting-spring-hill-suites-10-09-2014-1394
END:VEVENT

END:VCALENDAR
