BEGIN:VCALENDAR
VERSION:2.0
PRODID:-//ChamberMaster//Event Calendar 2.0//EN
METHOD:PUBLISH
X-PUBLISHED-TTL:P3D
REFRESH-INTERVAL:P3D
CALSCALE:GREGORIAN
BEGIN:VEVENT
DTSTART:20150910T213000Z
DTEND:20150910T220000Z
X-MICROSOFT-CDO-ALLDAYEVENT:FALSE
SUMMARY:Ribbon Cutting- SportClips
DESCRIPTION:Please join us for a Ribbon Cutting as welcome SportClips to the Bixby Metro Chamber of Commerce
X-ALT-DESC;FMTTYPE=text/html:Please join us for a Ribbon Cutting as welcome SportClips to the Bixby Metro Chamber of Commerce
LOCATION:SportClips 7890 East 106th Place South Suite V-4 Tulsa\, OK 74133
UID:e.1611.1636
SEQUENCE:3
DTSTAMP:20260419T234541Z
URL:https://portal.bixbychamber.com/events/details/ribbon-cutting-sportclips-09-10-2015-1636
END:VEVENT

END:VCALENDAR
