BEGIN:VCALENDAR
VERSION:2.0
PRODID:-//ChamberMaster//Event Calendar 2.0//EN
METHOD:PUBLISH
X-PUBLISHED-TTL:P3D
REFRESH-INTERVAL:P3D
CALSCALE:GREGORIAN
BEGIN:VEVENT
DTSTART:20150618T203000Z
DTEND:20150618T210000Z
X-MICROSOFT-CDO-ALLDAYEVENT:FALSE
SUMMARY:Ribbon Cutting- South Tulsa Vision Development Center
DESCRIPTION:Please join us for a Ribbon Cutting welcoming South Tulsa Vision Development Center to the Bixby Metro Chamber of Commerce
X-ALT-DESC;FMTTYPE=text/html:Please join us for a Ribbon Cutting welcoming South Tulsa Vision Development Center to the Bixby Metro Chamber of Commerce
LOCATION:South Tulsa Vision Development Center 8988-D1 South Sheridan Road Tulsa \, OK 74133
UID:e.1611.1611
SEQUENCE:3
DTSTAMP:20260420T034734Z
URL:https://portal.bixbychamber.com/events/details/ribbon-cutting-south-tulsa-vision-development-center-06-18-2015-1611
END:VEVENT

END:VCALENDAR
