BEGIN:VCALENDAR
VERSION:2.0
PRODID:-//ChamberMaster//Event Calendar 2.0//EN
METHOD:PUBLISH
X-PUBLISHED-TTL:P3D
REFRESH-INTERVAL:P3D
CALSCALE:GREGORIAN
BEGIN:VEVENT
DTSTART:20151008T213000Z
DTEND:20151008T220000Z
X-MICROSOFT-CDO-ALLDAYEVENT:FALSE
SUMMARY:Ribbon Cutting- Senior Star- Woodland Terrace
DESCRIPTION:Please join us for a Ribbon Cutting as welcome Senior Star- Woodland Terrace to the Bixby Metro Chamber of Commerce.
X-ALT-DESC;FMTTYPE=text/html:Please join us for a Ribbon Cutting as welcome Senior Star- Woodland Terrace to the Bixby Metro Chamber of Commerce.
LOCATION:Senior Star-Woodland Terrace Victoria McKenna 9524 East 71st Street Tulsa\, OK 74113
UID:e.1611.1643
SEQUENCE:3
DTSTAMP:20260419T223908Z
URL:https://portal.bixbychamber.com/events/details/ribbon-cutting-senior-star-woodland-terrace-10-08-2015-1643
END:VEVENT

END:VCALENDAR
