BEGIN:VCALENDAR
VERSION:2.0
PRODID:-//ChamberMaster//Event Calendar 2.0//EN
METHOD:PUBLISH
X-PUBLISHED-TTL:P3D
REFRESH-INTERVAL:P3D
CALSCALE:GREGORIAN
BEGIN:VEVENT
DTSTART:20160331T213000Z
DTEND:20160331T220000Z
X-MICROSOFT-CDO-ALLDAYEVENT:FALSE
SUMMARY:Ribbon Cutting: Ross Medical Care
DESCRIPTION:Please join us for a Ribbon Cutting welcome Ross Medical Care to the Bixby Metro Chamber of Commerce
X-ALT-DESC;FMTTYPE=text/html:<span style="font-size:12px\;"><span style="font-family:arial\;">Please join us for a Ribbon Cutting welcome Ross Medical Care to the Bixby Metro Chamber of Commerce</span></span>
LOCATION:Ross Medical Care\, P.C. 10130 South Memorial Drive Floor 2 Tulsa\, OK 74133
UID:e.1611.2793
SEQUENCE:3
DTSTAMP:20260419T155251Z
URL:https://portal.bixbychamber.com/events/details/ribbon-cutting-ross-medical-care-03-31-2016-2793
END:VEVENT

END:VCALENDAR
