BEGIN:VCALENDAR
VERSION:2.0
PRODID:-//ChamberMaster//Event Calendar 2.0//EN
METHOD:PUBLISH
X-PUBLISHED-TTL:P3D
REFRESH-INTERVAL:P3D
CALSCALE:GREGORIAN
BEGIN:VEVENT
DTSTART:20140807T223000Z
DTEND:20140807T230000Z
X-MICROSOFT-CDO-ALLDAYEVENT:FALSE
SUMMARY:Ribbon Cutting- Rhea Lana
DESCRIPTION:Please join us for a Ribbon Cutting as we welcome Rhea Lana's Children's Consignment to the Bixby Metro Chamber.
X-ALT-DESC;FMTTYPE=text/html:Please join us for a Ribbon Cutting as we welcome Rhea Lana&#39\;s Children&#39\;s Consignment to the Bixby Metro Chamber.
LOCATION:Atrium of the SpiritBank Event Center.
UID:e.1611.1411
SEQUENCE:3
DTSTAMP:20260420T172414Z
URL:https://portal.bixbychamber.com/events/details/ribbon-cutting-rhea-lana-08-07-2014-1411
END:VEVENT

END:VCALENDAR
