BEGIN:VCALENDAR
VERSION:2.0
PRODID:-//ChamberMaster//Event Calendar 2.0//EN
METHOD:PUBLISH
X-PUBLISHED-TTL:P3D
REFRESH-INTERVAL:P3D
CALSCALE:GREGORIAN
BEGIN:VEVENT
DTSTART:20131107T223000Z
DTEND:20131107T230000Z
X-MICROSOFT-CDO-ALLDAYEVENT:FALSE
SUMMARY:Ribbon Cutting- Red Canyon Massage Therapy Salon
DESCRIPTION:
X-ALT-DESC;FMTTYPE=text/html:
LOCATION:10031 South Yale Tulsa\, OK 74137
UID:e.1611.1244
SEQUENCE:3
DTSTAMP:20260421T050703Z
URL:https://portal.bixbychamber.com/events/details/ribbon-cutting-red-canyon-massage-therapy-salon-11-07-2013-1244
END:VEVENT

END:VCALENDAR
