BEGIN:VCALENDAR
VERSION:2.0
PRODID:-//ChamberMaster//Event Calendar 2.0//EN
METHOD:PUBLISH
X-PUBLISHED-TTL:P3D
REFRESH-INTERVAL:P3D
CALSCALE:GREGORIAN
BEGIN:VEVENT
DTSTART:20140327T213000Z
DTEND:20140327T223000Z
X-MICROSOFT-CDO-ALLDAYEVENT:FALSE
SUMMARY:Ribbon Cutting- Qdoba Mexican Grill
DESCRIPTION:Please join us for a Ribbon Cutting at Qdoba Mexican Grill's newest location.\n\nFood and soft drinks will be provided for all that attend.
X-ALT-DESC;FMTTYPE=text/html:Please join us for a Ribbon Cutting at Qdoba Mexican Grill&#39\;s newest location.<br />\nFood and soft drinks will be provided for all that attend.
LOCATION:9168 South Yale Avenue Suite 170 Tulsa\, OK 74137
UID:e.1611.1346
SEQUENCE:3
DTSTAMP:20260421T000149Z
URL:https://portal.bixbychamber.com/events/details/ribbon-cutting-qdoba-mexican-grill-03-27-2014-1346
END:VEVENT

END:VCALENDAR
