BEGIN:VCALENDAR
VERSION:2.0
PRODID:-//ChamberMaster//Event Calendar 2.0//EN
METHOD:PUBLISH
X-PUBLISHED-TTL:P3D
REFRESH-INTERVAL:P3D
CALSCALE:GREGORIAN
BEGIN:VEVENT
DTSTART:20151022T213000Z
DTEND:20151022T220000Z
X-MICROSOFT-CDO-ALLDAYEVENT:FALSE
SUMMARY:Ribbon Cutting- PJ's Pub and Grill
DESCRIPTION:Please join us for a Ribbon Cutting at PJ's Pub and Grill as we welcome them to the Bixby Metro Chamber of Commerce.
X-ALT-DESC;FMTTYPE=text/html:Please join us for a Ribbon Cutting at PJ&#39\;s Pub and Grill as we welcome them to the Bixby Metro Chamber of Commerce.
LOCATION:PJ's Pub and Grill Patience Jones 9999 South Mingo Road Suite Y Tulsa\, OK 74133
UID:e.1611.1655
SEQUENCE:3
DTSTAMP:20260419T235222Z
URL:https://portal.bixbychamber.com/events/details/ribbon-cutting-pj-s-pub-and-grill-10-22-2015-1655
END:VEVENT

END:VCALENDAR
