BEGIN:VCALENDAR
VERSION:2.0
PRODID:-//ChamberMaster//Event Calendar 2.0//EN
METHOD:PUBLISH
X-PUBLISHED-TTL:P3D
REFRESH-INTERVAL:P3D
CALSCALE:GREGORIAN
BEGIN:VEVENT
DTSTART:20140904T213000Z
DTEND:20140904T220000Z
X-MICROSOFT-CDO-ALLDAYEVENT:FALSE
SUMMARY:Ribbon Cutting- Pinot's Palette
DESCRIPTION:Please join us as we welcome Pinot's Palette in a Ribbon Cutting ceremony
X-ALT-DESC;FMTTYPE=text/html:Please join us as we welcome Pinot&#39\;s Palette in a Ribbon Cutting ceremony
LOCATION:
UID:e.1611.1402
SEQUENCE:3
DTSTAMP:20260420T160437Z
URL:https://portal.bixbychamber.com/events/details/ribbon-cutting-pinot-s-palette-09-04-2014-1402
END:VEVENT

END:VCALENDAR
