BEGIN:VCALENDAR
VERSION:2.0
PRODID:-//ChamberMaster//Event Calendar 2.0//EN
METHOD:PUBLISH
X-PUBLISHED-TTL:P3D
REFRESH-INTERVAL:P3D
CALSCALE:GREGORIAN
BEGIN:VEVENT
DTSTART:20150709T213000Z
DTEND:20150709T220000Z
X-MICROSOFT-CDO-ALLDAYEVENT:FALSE
SUMMARY:Ribbon Cutting- Off the Cuff Cuisine
DESCRIPTION:Please join us for a Ribbon Cutting welcome Off the Cuff Cuisine to the Bixby Metro Chamber of Commerce.
X-ALT-DESC;FMTTYPE=text/html:Please join us for a Ribbon Cutting welcome Off the Cuff Cuisine to the Bixby Metro Chamber of Commerce.
LOCATION:Off The Cuff Cuisine 9999 South Mingo Road Suite A Tulsa\, OK 74133
UID:e.1611.1613
SEQUENCE:3
DTSTAMP:20260420T034820Z
URL:https://portal.bixbychamber.com/events/details/ribbon-cutting-off-the-cuff-cuisine-07-09-2015-1613
END:VEVENT

END:VCALENDAR
