BEGIN:VCALENDAR
VERSION:2.0
PRODID:-//ChamberMaster//Event Calendar 2.0//EN
METHOD:PUBLISH
X-PUBLISHED-TTL:P3D
REFRESH-INTERVAL:P3D
CALSCALE:GREGORIAN
BEGIN:VEVENT
DTSTART:20140925T220000Z
DTEND:20140925T223000Z
X-MICROSOFT-CDO-ALLDAYEVENT:FALSE
SUMMARY:Ribbon Cutting- Nowlin Orthodontics
DESCRIPTION:Please join us as we welcome Nowlin Orthodontics in their new location.
X-ALT-DESC;FMTTYPE=text/html:Please join us as we welcome Nowlin Orthodontics in their new location.
LOCATION:Nowlin Orthodontics 11910 South Memorial Drive Bixby\, OK 74008
UID:e.1611.1421
SEQUENCE:3
DTSTAMP:20260420T160541Z
URL:https://portal.bixbychamber.com/events/details/ribbon-cutting-nowlin-orthodontics-09-25-2014-1421
END:VEVENT

END:VCALENDAR
