BEGIN:VCALENDAR
VERSION:2.0
PRODID:-//ChamberMaster//Event Calendar 2.0//EN
METHOD:PUBLISH
X-PUBLISHED-TTL:P3D
REFRESH-INTERVAL:P3D
CALSCALE:GREGORIAN
BEGIN:VEVENT
DTSTART:20140911T210000Z
DTEND:20140911T220000Z
X-MICROSOFT-CDO-ALLDAYEVENT:FALSE
SUMMARY:Ribbon Cutting- Nothing Bundt Cakes
DESCRIPTION:Please join us for a Ribbon Cutting as the Bixby Metro Chamber of Commerce and Tulsa Regional Chamber of Commerce welcome Nothing Bundt Cakes to our chambers.
X-ALT-DESC;FMTTYPE=text/html:Please join us for a Ribbon Cutting as the Bixby Metro Chamber of Commerce and Tulsa Regional Chamber of Commerce welcome Nothing Bundt Cakes to our chambers.
LOCATION:Nothing Bundt Cakes 7890 East 106th Suite 10 Tulsa\, OK 74133
UID:e.1611.1413
SEQUENCE:3
DTSTAMP:20260420T160538Z
URL:https://portal.bixbychamber.com/events/details/ribbon-cutting-nothing-bundt-cakes-09-11-2014-1413
END:VEVENT

END:VCALENDAR
