BEGIN:VCALENDAR
VERSION:2.0
PRODID:-//ChamberMaster//Event Calendar 2.0//EN
METHOD:PUBLISH
X-PUBLISHED-TTL:P3D
REFRESH-INTERVAL:P3D
CALSCALE:GREGORIAN
BEGIN:VEVENT
DTSTART:20150903T213000Z
DTEND:20150903T220000Z
X-MICROSOFT-CDO-ALLDAYEVENT:FALSE
SUMMARY:Ribbon Cutting- nJoy Vision Tulsa
DESCRIPTION:Please join us for a Ribbon Cutting welcoming nJoy Vision Tulsa to the Bixby Metro Chamber of Commerce family.
X-ALT-DESC;FMTTYPE=text/html:Please join us for a Ribbon Cutting welcoming nJoy Vision Tulsa to the Bixby Metro Chamber of Commerce family.
LOCATION:nJoy Vision Tulsa 1601 South Eucalyptus Avenue Suite 200 Broken Arrow\, OK 74012
UID:e.1611.1648
SEQUENCE:3
DTSTAMP:20260419T234516Z
URL:https://portal.bixbychamber.com/events/details/ribbon-cutting-njoy-vision-tulsa-09-03-2015-1648
END:VEVENT

END:VCALENDAR
