BEGIN:VCALENDAR
VERSION:2.0
PRODID:-//ChamberMaster//Event Calendar 2.0//EN
METHOD:PUBLISH
X-PUBLISHED-TTL:P3D
REFRESH-INTERVAL:P3D
CALSCALE:GREGORIAN
BEGIN:VEVENT
DTSTART:20141014T213000Z
DTEND:20141014T220000Z
X-MICROSOFT-CDO-ALLDAYEVENT:FALSE
SUMMARY:Ribbon Cutting- McGraw Realtors
DESCRIPTION:Please join is for a Ribbon Cutting as we welcome McGraw Realtors to their newest location in Bixby!
X-ALT-DESC;FMTTYPE=text/html:Please join is for a Ribbon Cutting as we welcome McGraw Realtors to their newest location in Bixby!
LOCATION:McGraw Realtors Bixby 12345 South Memorial Drive Suite 117 Bixby\, OK 74008
UID:e.1611.1450
SEQUENCE:3
DTSTAMP:20260420T145300Z
URL:https://portal.bixbychamber.com/events/details/ribbon-cutting-mcgraw-realtors-10-14-2014-1450
END:VEVENT

END:VCALENDAR
