BEGIN:VCALENDAR
VERSION:2.0
PRODID:-//ChamberMaster//Event Calendar 2.0//EN
METHOD:PUBLISH
X-PUBLISHED-TTL:P3D
REFRESH-INTERVAL:P3D
CALSCALE:GREGORIAN
BEGIN:VEVENT
DTSTART:20150305T223000Z
DTEND:20150305T230000Z
X-MICROSOFT-CDO-ALLDAYEVENT:FALSE
SUMMARY:Ribbon Cutting- Mass Mutual of Oklahoma
DESCRIPTION:Please join us for a Ribbon Cutting welcoming Mass Mutual of Oklahoma- Miron to the Bixby Metro Chamber of Commerce.
X-ALT-DESC;FMTTYPE=text/html:Please join us for a Ribbon Cutting welcoming Mass Mutual of Oklahoma- Miron to the Bixby Metro Chamber of Commerce.
LOCATION:Bixby Metro Chamber of Commerce 10441 South Regal Boulevard Suite 104 Tulsa\, OK 74133
UID:e.1611.1558
SEQUENCE:3
DTSTAMP:20260420T082238Z
URL:https://portal.bixbychamber.com/events/details/ribbon-cutting-mass-mutual-of-oklahoma-03-05-2015-1558
END:VEVENT

END:VCALENDAR
