BEGIN:VCALENDAR
VERSION:2.0
PRODID:-//ChamberMaster//Event Calendar 2.0//EN
METHOD:PUBLISH
X-PUBLISHED-TTL:P3D
REFRESH-INTERVAL:P3D
CALSCALE:GREGORIAN
BEGIN:VEVENT
DTSTART:20150423T213000Z
DTEND:20150423T220000Z
X-MICROSOFT-CDO-ALLDAYEVENT:FALSE
SUMMARY:Ribbon Cutting- Learning Express Toys
DESCRIPTION:Please join us for a Ribbon Cutting as we welcome Learning Express Toys to the chamber family!
X-ALT-DESC;FMTTYPE=text/html:Please join us for a Ribbon Cutting as we welcome Learning Express Toys to the chamber family!
LOCATION:Learning Express Toys 7891 E. 108th Street Suite X-8 Tulsa\, OK 74133
UID:e.1611.1582
SEQUENCE:3
DTSTAMP:20260420T064431Z
URL:https://portal.bixbychamber.com/events/details/ribbon-cutting-learning-express-toys-04-23-2015-1582
END:VEVENT

END:VCALENDAR
