BEGIN:VCALENDAR
VERSION:2.0
PRODID:-//ChamberMaster//Event Calendar 2.0//EN
METHOD:PUBLISH
X-PUBLISHED-TTL:P3D
REFRESH-INTERVAL:P3D
CALSCALE:GREGORIAN
BEGIN:VEVENT
DTSTART:20160303T223000Z
DTEND:20160303T230000Z
X-MICROSOFT-CDO-ALLDAYEVENT:FALSE
SUMMARY:Ribbon Cutting- Latham's Wood Creations
DESCRIPTION:Please join us for a ribbon cutting as we welcome Latham's Wood Creations to the Bixby Metro Chamber of Commerce.
X-ALT-DESC;FMTTYPE=text/html:Please join us for a ribbon cutting as we welcome Latham&#39\;s Wood Creations to the Bixby Metro Chamber of Commerce.
LOCATION:Bixby Metro Chamber of Commerce 10441 South Regal Boulevard Suite 104 Tulsa\, OK 74133
UID:e.1611.2723
SEQUENCE:3
DTSTAMP:20260419T155241Z
URL:https://portal.bixbychamber.com/events/details/ribbon-cutting-latham-s-wood-creations-03-03-2016-2723
END:VEVENT

END:VCALENDAR
